BEGIN:VCALENDAR
VERSION:2.0
PRODID:-//South Carolina Broadcasters Association - ECPv6.15.20//NONSGML v1.0//EN
CALSCALE:GREGORIAN
METHOD:PUBLISH
X-ORIGINAL-URL:https://www.scba.net
X-WR-CALDESC:Events for South Carolina Broadcasters Association
REFRESH-INTERVAL;VALUE=DURATION:PT1H
X-Robots-Tag:noindex
X-PUBLISHED-TTL:PT1H
BEGIN:VTIMEZONE
TZID:America/New_York
BEGIN:DAYLIGHT
TZOFFSETFROM:-0500
TZOFFSETTO:-0400
TZNAME:EDT
DTSTART:20220313T070000
END:DAYLIGHT
BEGIN:STANDARD
TZOFFSETFROM:-0400
TZOFFSETTO:-0500
TZNAME:EST
DTSTART:20221106T060000
END:STANDARD
BEGIN:DAYLIGHT
TZOFFSETFROM:-0500
TZOFFSETTO:-0400
TZNAME:EDT
DTSTART:20230312T070000
END:DAYLIGHT
BEGIN:STANDARD
TZOFFSETFROM:-0400
TZOFFSETTO:-0500
TZNAME:EST
DTSTART:20231105T060000
END:STANDARD
BEGIN:DAYLIGHT
TZOFFSETFROM:-0500
TZOFFSETTO:-0400
TZNAME:EDT
DTSTART:20240310T070000
END:DAYLIGHT
BEGIN:STANDARD
TZOFFSETFROM:-0400
TZOFFSETTO:-0500
TZNAME:EST
DTSTART:20241103T060000
END:STANDARD
END:VTIMEZONE
BEGIN:VEVENT
DTSTART;TZID=America/New_York:20230812T180000
DTEND;TZID=America/New_York:20230812T220000
DTSTAMP:20260420T170055
CREATED:20230714T200316Z
LAST-MODIFIED:20230714T200756Z
UID:14224-1691863200-1691877600@www.scba.net
SUMMARY:STAR Awards 2023
DESCRIPTION:All cowboys and cowgirls are invited!\n\n\n\n\n\nFor pricing please\, click here. \n\n\n\nIf you would like to purchase tickets please contact Maya Arias at maya@scba.net or call 803-732-1186. \n\n\n\nFor your convenience\, we’ve included a link to our PayPal account: Click Here!
URL:https://www.scba.net/events/star-awards-2023/
LOCATION:HILTON COLUMBIA CENTER BALLROOM\, 924 Senate Street\, Columbia\, South Carolina\, 29201\, United States
CATEGORIES:STAR Awards
ATTACH;FMTTYPE=image/png:https://www.scba.net/wp-content/uploads/2023/04/save-the-date-star23-logo.png
END:VEVENT
END:VCALENDAR