BEGIN:VCALENDAR
VERSION:2.0
PRODID:-//South Carolina Broadcasters Association - ECPv6.15.20//NONSGML v1.0//EN
CALSCALE:GREGORIAN
METHOD:PUBLISH
X-ORIGINAL-URL:https://www.scba.net
X-WR-CALDESC:Events for South Carolina Broadcasters Association
REFRESH-INTERVAL;VALUE=DURATION:PT1H
X-Robots-Tag:noindex
X-PUBLISHED-TTL:PT1H
BEGIN:VTIMEZONE
TZID:America/New_York
BEGIN:DAYLIGHT
TZOFFSETFROM:-0500
TZOFFSETTO:-0400
TZNAME:EDT
DTSTART:20220313T070000
END:DAYLIGHT
BEGIN:STANDARD
TZOFFSETFROM:-0400
TZOFFSETTO:-0500
TZNAME:EST
DTSTART:20221106T060000
END:STANDARD
BEGIN:DAYLIGHT
TZOFFSETFROM:-0500
TZOFFSETTO:-0400
TZNAME:EDT
DTSTART:20230312T070000
END:DAYLIGHT
BEGIN:STANDARD
TZOFFSETFROM:-0400
TZOFFSETTO:-0500
TZNAME:EST
DTSTART:20231105T060000
END:STANDARD
BEGIN:DAYLIGHT
TZOFFSETFROM:-0500
TZOFFSETTO:-0400
TZNAME:EDT
DTSTART:20240310T070000
END:DAYLIGHT
BEGIN:STANDARD
TZOFFSETFROM:-0400
TZOFFSETTO:-0500
TZNAME:EST
DTSTART:20241103T060000
END:STANDARD
END:VTIMEZONE
BEGIN:VEVENT
DTSTART;TZID=America/New_York:20230127T180000
DTEND;TZID=America/New_York:20230127T213000
DTSTAMP:20260420T152947
CREATED:20221208T162747Z
LAST-MODIFIED:20231109T002155Z
UID:13109-1674842400-1674855000@www.scba.net
SUMMARY:2023 SCBA Awards of Distinction Dinner
DESCRIPTION:Join us as we celebrate four outstanding broadcasters during our 2023 SCBA Awards of Distinction Dinner and Ceremony. Deadline to purchase tickets is January 16\, 2023.
URL:https://www.scba.net/events/aod-tickets-now-on-sale/
LOCATION:Pastides USC Alumni Center\, 900 Senate Street\, Columbia\, South Carolina\, 29201\, United States
END:VEVENT
END:VCALENDAR